BEGIN:VCALENDAR
VERSION:2.0
PRODID:-//AICAR-ADICAE - ECPv6.15.20//NONSGML v1.0//EN
CALSCALE:GREGORIAN
METHOD:PUBLISH
X-WR-CALNAME:AICAR-ADICAE
X-ORIGINAL-URL:https://aicar.adicae.es
X-WR-CALDESC:Eventos para AICAR-ADICAE
REFRESH-INTERVAL;VALUE=DURATION:PT1H
X-Robots-Tag:noindex
X-PUBLISHED-TTL:PT1H
BEGIN:VTIMEZONE
TZID:Europe/Madrid
BEGIN:DAYLIGHT
TZOFFSETFROM:+0100
TZOFFSETTO:+0200
TZNAME:CEST
DTSTART:20240331T010000
END:DAYLIGHT
BEGIN:STANDARD
TZOFFSETFROM:+0200
TZOFFSETTO:+0100
TZNAME:CET
DTSTART:20241027T010000
END:STANDARD
BEGIN:DAYLIGHT
TZOFFSETFROM:+0100
TZOFFSETTO:+0200
TZNAME:CEST
DTSTART:20250330T010000
END:DAYLIGHT
BEGIN:STANDARD
TZOFFSETFROM:+0200
TZOFFSETTO:+0100
TZNAME:CET
DTSTART:20251026T010000
END:STANDARD
BEGIN:DAYLIGHT
TZOFFSETFROM:+0100
TZOFFSETTO:+0200
TZNAME:CEST
DTSTART:20260329T010000
END:DAYLIGHT
BEGIN:STANDARD
TZOFFSETFROM:+0200
TZOFFSETTO:+0100
TZNAME:CET
DTSTART:20261025T010000
END:STANDARD
END:VTIMEZONE
BEGIN:VEVENT
DTSTART;TZID=Europe/Madrid:20251028T180000
DTEND;TZID=Europe/Madrid:20251028T193000
DTSTAMP:20260420T132352
CREATED:20251105T162448Z
LAST-MODIFIED:20251105T170900Z
UID:10000086-1761674400-1761679800@aicar.adicae.es
SUMMARY:Charla: Facturación eléctrica y derechos de los consumidores
DESCRIPTION:Aprende a leer y comprender tu factura de la luz de manera sencilla: descubre qué significan los conceptos\, cómo se calculan los consumos y cómo ahorrar en tu recibo.
URL:https://aicar.adicae.es/actividad/22797/
LOCATION:Centro Cívico de Peñaflor\, La Tajada\, 11\, Peñaflor de Gállego\, Zaragoza\, 50193
CATEGORIES:Facturación Eléctrica
ATTACH;FMTTYPE=image/jpeg:https://aicar.adicae.es/wp-content/uploads/2025/11/CARTEL-FACTURACION-ELECTRICA-28-de-octubre.jpg
END:VEVENT
END:VCALENDAR