BEGIN:VCALENDAR
VERSION:2.0
PRODID:-//AICAR-ADICAE - ECPv6.15.20//NONSGML v1.0//EN
CALSCALE:GREGORIAN
METHOD:PUBLISH
X-ORIGINAL-URL:https://aicar.adicae.es
X-WR-CALDESC:Eventos para AICAR-ADICAE
REFRESH-INTERVAL;VALUE=DURATION:PT1H
X-Robots-Tag:noindex
X-PUBLISHED-TTL:PT1H
BEGIN:VTIMEZONE
TZID:Europe/Madrid
BEGIN:DAYLIGHT
TZOFFSETFROM:+0100
TZOFFSETTO:+0200
TZNAME:CEST
DTSTART:20240331T010000
END:DAYLIGHT
BEGIN:STANDARD
TZOFFSETFROM:+0200
TZOFFSETTO:+0100
TZNAME:CET
DTSTART:20241027T010000
END:STANDARD
BEGIN:DAYLIGHT
TZOFFSETFROM:+0100
TZOFFSETTO:+0200
TZNAME:CEST
DTSTART:20250330T010000
END:DAYLIGHT
BEGIN:STANDARD
TZOFFSETFROM:+0200
TZOFFSETTO:+0100
TZNAME:CET
DTSTART:20251026T010000
END:STANDARD
BEGIN:DAYLIGHT
TZOFFSETFROM:+0100
TZOFFSETTO:+0200
TZNAME:CEST
DTSTART:20260329T010000
END:DAYLIGHT
BEGIN:STANDARD
TZOFFSETFROM:+0200
TZOFFSETTO:+0100
TZNAME:CET
DTSTART:20261025T010000
END:STANDARD
END:VTIMEZONE
BEGIN:VEVENT
DTSTART;TZID=Europe/Madrid:20250924T110000
DTEND;TZID=Europe/Madrid:20250924T123000
DTSTAMP:20260420T153135
CREATED:20250610T100844Z
LAST-MODIFIED:20250626T111848Z
UID:10000083-1758711600-1758717000@aicar.adicae.es
SUMMARY:Visita guiada al Palacio de Armijo - Sede Justicia de Aragón
DESCRIPTION:Desde AICAR ADICAE tenemos el placer de invitarte a la siguiente actividad cultural: una exclusiva visita guiada para socios/as al Palacio de Armijo – Sede Justicia de Aragón. \n📍 Lugar: Calle Don Juan de Aragón\, 7\, Zaragoza\n📅 Fecha: Miércoles\, 24 de septiembre de 2025\n🕡 Hora: 11:00 h \n👉 Actividad gratuita y exclusiva para socios y socias
URL:https://aicar.adicae.es/actividad/visita-guiada-al-palacio-de-armijo-sede-justicia-de-aragon/
LOCATION:Calle Don Juan de Aragón\, 7\, Zaragoza\, Calle Don Juan de Aragón\, 7\, Zaragoza\, Zaragoza\, 50001\, Spain
ATTACH;FMTTYPE=image/jpeg:https://aicar.adicae.es/wp-content/uploads/2025/06/VISITA-GUIADA-JUSTICIA-ARAGON.jpg
END:VEVENT
END:VCALENDAR